BEGIN:VCALENDAR
VERSION:2.0
PRODID:-//C the Light Foundation - ECPv6.15.20//NONSGML v1.0//EN
CALSCALE:GREGORIAN
METHOD:PUBLISH
X-WR-CALNAME:C the Light Foundation
X-ORIGINAL-URL:https://cthelightfoundation.org
X-WR-CALDESC:Events for C the Light Foundation
REFRESH-INTERVAL;VALUE=DURATION:PT1H
X-Robots-Tag:noindex
X-PUBLISHED-TTL:PT1H
BEGIN:VTIMEZONE
TZID:America/New_York
BEGIN:DAYLIGHT
TZOFFSETFROM:-0500
TZOFFSETTO:-0400
TZNAME:EDT
DTSTART:20250309T070000
END:DAYLIGHT
BEGIN:STANDARD
TZOFFSETFROM:-0400
TZOFFSETTO:-0500
TZNAME:EST
DTSTART:20251102T060000
END:STANDARD
BEGIN:DAYLIGHT
TZOFFSETFROM:-0500
TZOFFSETTO:-0400
TZNAME:EDT
DTSTART:20260308T070000
END:DAYLIGHT
BEGIN:STANDARD
TZOFFSETFROM:-0400
TZOFFSETTO:-0500
TZNAME:EST
DTSTART:20261101T060000
END:STANDARD
BEGIN:DAYLIGHT
TZOFFSETFROM:-0500
TZOFFSETTO:-0400
TZNAME:EDT
DTSTART:20270314T070000
END:DAYLIGHT
BEGIN:STANDARD
TZOFFSETFROM:-0400
TZOFFSETTO:-0500
TZNAME:EST
DTSTART:20271107T060000
END:STANDARD
END:VTIMEZONE
BEGIN:VEVENT
DTSTART;TZID=America/New_York:20260619T130000
DTEND;TZID=America/New_York:20260619T180000
DTSTAMP:20260424T122702
CREATED:20260225T022609Z
LAST-MODIFIED:20260327T213518Z
UID:10000009-1781874000-1781892000@cthelightfoundation.org
SUMMARY:2026 Conrad Classic
DESCRIPTION:TO BENEFIT C THE LIGHT FOUNDATION\nDATE: FRIDAY\, June 19\, 2026\nManor Golf Club\n153 Bran Rd\nReading\, PA 19608 \nREGISTRATION NOW OPEN!\n\n\n\n\n\nView Registration Flyer\n  \nRegister Now\n\nInterested in volunteering? Please fill out the contact information form or email us at ConradClassic@gmail.com and a Conrad Classic representative will be in touch.
URL:https://cthelightfoundation.org/event/2026-conrad-classic/
LOCATION:Manor Golf Course\, 153 Bran Road\, Sinking Spring\, PA\, 19608\, United States
END:VEVENT
END:VCALENDAR